BEGIN:VCALENDAR
VERSION:2.0
PRODID:-//ChamberMaster//Event Calendar 2.0//EN
METHOD:PUBLISH
X-PUBLISHED-TTL:P3D
REFRESH-INTERVAL:P3D
CALSCALE:GREGORIAN
BEGIN:VEVENT
DTSTART:20110716T160000Z
DTEND:20110717T030000Z
X-MICROSOFT-CDO-ALLDAYEVENT:FALSE
SUMMARY:One Creek Event
DESCRIPTION:Come and enjoy our "One Creek Event" on Saturday\, July 16th from 10am to 9pm.  The savings is 35%off regular priced merchandise and 40% off red ticket markdowns.\n\nThere will be refreshments and Karen Cernazanu will sample her "Lunch Time Face LIft."\n\nHope to see you.
X-ALT-DESC;FMTTYPE=text/html:<span style="background-color: #ffffff">Come and enjoy our &quot\;One Creek Event&quot\; on Saturday\, July 16th from 10am to 9pm.&nbsp\; The savings is 35%off regular priced merchandise and 40% off red ticket markdowns.<br />\nThere will be refreshments and Karen Cernazanu will sample her &quot\;Lunch Time Face LIft.&quot\;<br />\nHope to see you.</span><br />\n
LOCATION:Flatirons Crossing Mall 1 W. Flatiron Circle # 2156\, Broomfield\, Co
UID:e.641.2862
SEQUENCE:3
DTSTAMP:20260420T050535Z
URL:http://business.broomfieldchamber.com/events/details/one-creek-event-07-16-2011-2862
END:VEVENT

END:VCALENDAR
