BEGIN:VCALENDAR
VERSION:2.0
PRODID:-//ChamberMaster//Event Calendar 2.0//EN
METHOD:PUBLISH
X-PUBLISHED-TTL:P3D
REFRESH-INTERVAL:P3D
CALSCALE:GREGORIAN
BEGIN:VEVENT
DTSTART:20100624T210000Z
DTEND:20100624T223000Z
X-MICROSOFT-CDO-ALLDAYEVENT:FALSE
SUMMARY:One Toke Over The Line: Medical Marijuana at Work
DESCRIPTION:Have you noticed the recent media attention given to medical marijuana in Colorado?  Have you wondered what it means for your company and employees? The use of medical marijuana is skyrocketing.  Amendment 20 was passed in 2000 allowing persons to possess and use marijuana to treat some medical conditions without fear of criminal prosecution. Between June 1\, 2001 and August 31\, 2009\, there were 14\, 377 state registry cardholders with only 27 applications denied.  By January of this year there were 30\,000 cardholders! Users of\, and applicants for\, medical marijuana may be your employees.  The impact of medical marijuana is spilling over into the workplace.  You need solid information to manage those employees. This session will explain:What Amendment 20 allowsHow the medical marijuana industry operates in ColoradoYour rights as an employerThe relationship of Amendment 20 to other employment lawsThe Broomfield Chamber of Commerce\, Jewell Insurance\, Keller-Lowry Insurance\, and Pinnacol Assurance will host this seminar on "Medical Marijuana" presented by Vance O'Knapp and Patrick Miller of Sherman and Howard\, LLC.
X-ALT-DESC;FMTTYPE=text/html:<div>Have you noticed the recent media attention given to medical marijuana in Colorado?&nbsp\; Have you wondered what it means for your company and employees?</div><div>&nbsp\;</div><div>The use of medical marijuana is skyrocketing.&nbsp\; Amendment 20 was passed in 2000 allowing persons to possess and use marijuana to treat some medical conditions without fear of criminal prosecution.</div><div>&nbsp\;</div><div>Between June 1\, 2001 and August 31\, 2009\, there were 14\, 377 state registry cardholders with only 27 applications denied.&nbsp\; By January of this year there were 30\,000 cardholders!</div><div>&nbsp\;</div><div>Users of\, and applicants for\, medical marijuana&nbsp\;may be&nbsp\;your employees.&nbsp\; The impact of medical marijuana is spilling over into the workplace.&nbsp\; You need solid information to manage those employees.</div><div>&nbsp\;</div><div>This session will explain:</div><ul><li>What Amendment 20 allows</li><li>How the medical marijuana industry operates in Colorado</li><li>Your rights as an employer</li><li>The relationship of Amendment 20 to other employment laws</li></ul><div>The Broomfield Chamber of Commerce\, Jewell Insurance\, Keller-Lowry Insurance\, and Pinnacol Assurance will host this seminar on &quot\;Medical Marijuana&quot\; presented by Vance O&rsquo\;Knapp and Patrick Miller of Sherman and Howard\, LLC.</div><div>&nbsp\;</div><div>&nbsp\;</div><div>&nbsp\;</div><div>&nbsp\;</div>
LOCATION:Sill-TerHar Motors150 Alter StreetBroomfield\, CO 80020
UID:e.641.1073
SEQUENCE:3
DTSTAMP:20260421T011848Z
URL:http://business.broomfieldchamber.com/events/details/one-toke-over-the-line-medical-marijuana-at-work-06-24-2010-1073
END:VEVENT

END:VCALENDAR
