BEGIN:VCALENDAR
VERSION:2.0
PRODID:-//ChamberMaster//Event Calendar 2.0//EN
METHOD:PUBLISH
X-PUBLISHED-TTL:P3D
REFRESH-INTERVAL:P3D
CALSCALE:GREGORIAN
BEGIN:VEVENT
DTSTART:20101103T220000Z
DTEND:20101104T010000Z
X-MICROSOFT-CDO-ALLDAYEVENT:FALSE
SUMMARY:Open House at Ameriprise Financial Advisors
DESCRIPTION:Open House
X-ALT-DESC;FMTTYPE=text/html:Open House
LOCATION:1881 9th St. Suite 302 Boulder\, CO
UID:e.641.1209
SEQUENCE:3
DTSTAMP:20260420T173519Z
URL:http://business.broomfieldchamber.com/events/details/open-house-at-ameriprise-financial-advisors-11-03-2010-1209
END:VEVENT

END:VCALENDAR
