BEGIN:VCALENDAR
VERSION:2.0
PRODID:-//ChamberMaster//Event Calendar 2.0//EN
METHOD:PUBLISH
X-PUBLISHED-TTL:P3D
REFRESH-INTERVAL:P3D
CALSCALE:GREGORIAN
BEGIN:VEVENT
DTSTART;VALUE=DATE:20110319
DTEND;VALUE=DATE:20110320
TRANSP:TRANSPARENT
X-MICROSOFT-CDO-ALLDAYEVENT:TRUE
SUMMARY:Open House at Anytime Fitness Broomfield!
DESCRIPTION:Join Anytime Fitness at our all day open house!  We will have group training demonstrations\, food\, giveaways\, and great deals on membership!
X-ALT-DESC;FMTTYPE=text/html:Join Anytime Fitness at our all day open house!  We will have group training demonstrations\, food\, giveaways\, and great deals on membership! 
LOCATION:1100 US HWY 287 Suite 1400 Broomfield\, CO 80020
UID:e.641.1361
SEQUENCE:3
DTSTAMP:20260420T111240Z
URL:http://business.broomfieldchamber.com/events/details/open-house-at-anytime-fitness-broomfield-03-19-2011-1361
END:VEVENT

END:VCALENDAR
