BEGIN:VCALENDAR
VERSION:2.0
PRODID:-//ChamberMaster//Event Calendar 2.0//EN
METHOD:PUBLISH
X-PUBLISHED-TTL:P3D
REFRESH-INTERVAL:P3D
CALSCALE:GREGORIAN
BEGIN:VEVENT
DTSTART:20111015T230000Z
DTEND:20111016T030000Z
X-MICROSOFT-CDO-ALLDAYEVENT:FALSE
SUMMARY:Open Mic Night and Costume Contest
DESCRIPTION:Bring your young performers and their friends to Globalsound Studio for Open Mic Night on Saturday\, October 15th. \n\n	\n\n	Attendees will be thrilled with tons of things to do\, including: karaoke\, dancing\, video games\, and more! All this is provided in our beautiful\, safe building and supervised by several adults.\n\n	\n\n	In the spirit of the season\, we're hosting a costume party!\n\n	Prizes given for the best\, most over-the-top costumes!\n\n	\n\n	5-6 pm - Ages 5-11 - $5 admission - Parents optional\n\n	\n\n	6-9 pm - Ages 12-17 - $10 admission - No parents please\n\n	\n\n	Food is available for purchase.
X-ALT-DESC;FMTTYPE=text/html:<p>\n	<span style="font-size: 14px"><span style="font-size: 16px"><span style="color: #000080"><strong>Bring your young performers and their friends&nbsp\;to Globalsound Studio for Open Mic Night on Saturday\, October 15th. </strong></span></span><br />\n	<br />\n	Attendees will be thrilled with tons of things to do\, including: karaoke\, dancing\, video games\, and more! All this is provided in our beautiful\, safe building and supervised by several adults.<br />\n	<br />\n	<strong>In the spirit of the season\, we&#39\;re hosting a costume party!<br />\n	Prizes given for the best\, most over-the-top costumes!</strong><br />\n	<br />\n	5-6 pm - Ages 5-11 - $5 admission - Parents optional<br />\n	<br />\n	6-9 pm - Ages 12-17 - $10 admission - No parents please<br />\n	<br />\n	Food is available for purchase.&nbsp\;</span><br />\n	<br />\n	&nbsp\;</p>\n
LOCATION:555 Alter St. Unit 19-F Broomfield\, CO 80020
UID:e.641.2921
SEQUENCE:3
DTSTAMP:20260420T021158Z
URL:http://business.broomfieldchamber.com/events/details/open-mic-night-and-costume-contest-10-15-2011-2921
END:VEVENT

END:VCALENDAR
