BEGIN:VCALENDAR
VERSION:2.0
PRODID:-//ChamberMaster//Event Calendar 2.0//EN
METHOD:PUBLISH
X-PUBLISHED-TTL:P3D
REFRESH-INTERVAL:P3D
CALSCALE:GREGORIAN
BEGIN:VEVENT
DTSTART:20120714T163000Z
DTEND:20120714T183000Z
X-MICROSOFT-CDO-ALLDAYEVENT:FALSE
SUMMARY:Organize Children at Home & School
DESCRIPTION:Would you like to learn new ways to teach your children how to organize? With these tips and tricks you can help them with organizing concepts for their bedrooms\, helping out at home and keeping their backpacks and lockers clear of clutter.\n\n\n\nClass 233220-1A
X-ALT-DESC;FMTTYPE=text/html:<span style="font-size: 14px"><span style="font-family: verdana">Would you like to learn new ways to teach your children how to organize? With these tips and tricks you can help them with organizing concepts for their bedrooms\, helping out at home and keeping their backpacks and lockers clear of clutter.<br />\n<br />\nClass 233220-1A</span></span><br />\n<br />\n
LOCATION:City Park Recreation Center in Westminster
UID:e.641.4173
SEQUENCE:3
DTSTAMP:20260419T120416Z
URL:http://business.broomfieldchamber.com/events/details/organize-children-at-home-school-07-14-2012-4173
END:VEVENT

END:VCALENDAR
