BEGIN:VCALENDAR
VERSION:2.0
PRODID:-//ChamberMaster//Event Calendar 2.0//EN
METHOD:PUBLISH
X-PUBLISHED-TTL:P3D
REFRESH-INTERVAL:P3D
CALSCALE:GREGORIAN
BEGIN:VEVENT
DTSTART:20120602T163000Z
DTEND:20120602T183000Z
X-MICROSOFT-CDO-ALLDAYEVENT:FALSE
SUMMARY:Organize your Closets and Kitchen Workshop
DESCRIPTION:If you are overwhelmed and would like to learn how to get your closets and kitchen in a more manageable state you will enjoy this calss. Learn fun ideas on how to utilize your space.\n\n\n\nClass 213222-1A
X-ALT-DESC;FMTTYPE=text/html:<span style="font-size: 14px"><span style="font-family: verdana">If you are overwhelmed and would like to learn how to get your closets and kitchen in a more manageable state you will enjoy this calss. Learn fun ideas on how to utilize your space.<br />\n<br />\nClass 213222-1A</span></span>
LOCATION:City Park Recreation Center in Westminster
UID:e.641.4172
SEQUENCE:3
DTSTAMP:20260419T132356Z
URL:http://business.broomfieldchamber.com/events/details/organize-your-closets-and-kitchen-workshop-06-02-2012-4172
END:VEVENT

END:VCALENDAR
