BEGIN:VCALENDAR
VERSION:2.0
PRODID:-//ChamberMaster//Event Calendar 2.0//EN
METHOD:PUBLISH
X-PUBLISHED-TTL:P3D
REFRESH-INTERVAL:P3D
CALSCALE:GREGORIAN
BEGIN:VEVENT
DTSTART:20120218T173000Z
DTEND:20120218T193000Z
X-MICROSOFT-CDO-ALLDAYEVENT:FALSE
SUMMARY:ORGANIZE Your Closets & Kitchen Workshop
DESCRIPTION:If you are overwhelmed with "stuff" and don't know where to start register now. You will learn how to get your closets and kitchen in a more manageable state. Dayna-Rae has Tips and Tricks with wonderful product ideas. Find the right location for all your belongings.\n\n	\n\n	Register with the Westminster Rec\, Center\n\n	213222-1A Sa CP 10:30 am 12:30 pm Feb 18 $23/$28
X-ALT-DESC;FMTTYPE=text/html:<p>\n	If you are overwhelmed with &quot\;stuff&quot\; and don&#39\;t know where to start register now. You will learn how to get your closets and kitchen in a more manageable state. Dayna-Rae has Tips and Tricks with wonderful product ideas. Find the right location for all your belongings.<br />\n	<br />\n	Register with the Westminster Rec\, Center<br />\n	213222-1A Sa CP 10:30 am 12:30 pm Feb 18 $23/$28<br />\n	&nbsp\;</p>\n
LOCATION:Westminster Recreation Center
UID:e.641.3488
SEQUENCE:3
DTSTAMP:20260419T193011Z
URL:http://business.broomfieldchamber.com/events/details/organize-your-closets-kitchen-workshop-02-18-2012-3488
END:VEVENT

END:VCALENDAR
