BEGIN:VCALENDAR
VERSION:2.0
PRODID:-//ChamberMaster//Event Calendar 2.0//EN
METHOD:PUBLISH
X-PUBLISHED-TTL:P3D
REFRESH-INTERVAL:P3D
CALSCALE:GREGORIAN
BEGIN:VEVENT
DTSTART:20120406T223000Z
DTEND:20120407T003000Z
X-MICROSOFT-CDO-ALLDAYEVENT:FALSE
SUMMARY:ORGANIZING Tips and Tricks Party
DESCRIPTION:Do you have a space in your home or office that you could use some help with?\n\n\n\nJoin us for an ORGANIZING Tips and Tricks party where you can "Ask The ORGANIZER".\n\n\n\nWe will have some wine\, shop for Paparazzi Accessories and check out "Thirty-One"\, affordable totes\, purses and bins. Dayna-Rae will help you find the perfect organizing product to best suit your needs.\n\n\n\nRSVP by calling 720-937-8300 or daynarae@timeforyouorganizing.com
X-ALT-DESC;FMTTYPE=text/html:<span style="font-size: 16px"><span style="font-family: verdana"><span style="color: #006400"><strong>Do you have a space in your home or office that you could use some help with?</strong></span></span></span><br />\n<br />\n<span style="font-size: 14px"><span style="font-family: verdana">Join us for an ORGANIZING Tips and Tricks party where you can <span style="color: #006400">&quot\;Ask The ORGANIZER&quot\;</span>.<br />\n<br />\nWe will have some wine\, shop for Paparazzi Accessories and check out &quot\;Thirty-One&quot\;\, affordable totes\, purses and bins. Dayna-Rae will help you find the perfect organizing product to best suit your needs.<br />\n<br />\nRSVP by calling 720-937-8300 or <a href="mailto:daynarae@timeforyouorganizing.com">daynarae@timeforyouorganizing.com</a></span></span><span style="font-family: verdana"></span>
LOCATION:3070 Oak Circle North Broomfield\, CO 80020
UID:e.641.3903
SEQUENCE:3
DTSTAMP:20260419T161934Z
URL:http://business.broomfieldchamber.com/events/details/organizing-tips-and-tricks-party-04-06-2012-3903
END:VEVENT

END:VCALENDAR
