BEGIN:VCALENDAR
VERSION:2.0
PRODID:-//ChamberMaster//Event Calendar 2.0//EN
METHOD:PUBLISH
X-PUBLISHED-TTL:P3D
REFRESH-INTERVAL:P3D
CALSCALE:GREGORIAN
BEGIN:VEVENT
DTSTART;VALUE=DATE:20110720
DTEND;VALUE=DATE:20110721
TRANSP:TRANSPARENT
X-MICROSOFT-CDO-ALLDAYEVENT:TRUE
SUMMARY:Overcoming Insomnia
DESCRIPTION:Free health lecture sponsored by Broomfield's Buffalo Ridge Medical Center\n\n\n\nDo you have trouble falling or staying asleep? You're not alone. About one-third of adults experience insomnia within a given year\, and 10-15% have chronic insomnia that can last for months or years. Luckily\, there are practical steps you can take to greatly improve your sleep.\n\n\n\nCome hear a fellowship-trained sleep expert describe common causes of insomnia and treatment options.\n\n\n\nSpeaker: Mark Hickey\, MD\, of Boulder Community Sleep Disorders Center
X-ALT-DESC;FMTTYPE=text/html:Free health lecture sponsored by Broomfield&#39\;s Buffalo Ridge Medical Center<br />\n<br />\nDo you have trouble falling or staying asleep? You&rsquo\;re not alone. About one-third of adults experience insomnia within a given year\, and 10-15% have chronic insomnia that can last for months or years. Luckily\, there are practical steps you can take to greatly improve your sleep.<br />\n<br />\nCome hear a fellowship-trained sleep expert describe common causes of insomnia and treatment options.<br />\n<br />\nSpeaker: Mark Hickey\, MD\, of Boulder Community Sleep Disorders Center<br />\n<br />\n
LOCATION:Where: Omni Interlocken Spa & Resort\, 500 Interlocken Blvd.\, Broomfield Reservations required: Call 303-441-0580 or visit bchlectures.org/insomnia
UID:e.641.2725
SEQUENCE:3
DTSTAMP:20260420T050535Z
URL:http://business.broomfieldchamber.com/events/details/overcoming-insomnia-07-20-2011-2725
END:VEVENT

END:VCALENDAR
