BEGIN:VCALENDAR
VERSION:2.0
PRODID:-//ChamberMaster//Event Calendar 2.0//EN
METHOD:PUBLISH
X-PUBLISHED-TTL:P3D
REFRESH-INTERVAL:P3D
CALSCALE:GREGORIAN
BEGIN:VEVENT
DTSTART;VALUE=DATE:20111025
DTEND;VALUE=DATE:20111026
TRANSP:TRANSPARENT
X-MICROSOFT-CDO-ALLDAYEVENT:TRUE
SUMMARY:Papa Romano's Pizza Dining to End Domestic Violence
DESCRIPTION:Dine at Papa Romano's Pizza on October 25 and Papa Romano's will donate 10% of their proceeds to us!\n\n\nOctober is Domestic Violence Awareness Month\, and on behalf of Safehouse Progressive Alliance for Nonviolence (SPAN)\, We are pleased to invite you to be a part of Dining to End Domestic Violence. This month-long series of fundraising events will support services for domestic violence survivors and their children in Boulder and Broomfield Counties.\n\n\n\nSince 1979 SPAN has been providing healing\, hope and opportunity to adults and children who are impacted by abuse. Our Domestic Violence Awareness Month events are a critical component to raising the funds needed to provide safe\, confidential emergency shelter\, counseling\, legal advocacy and more to hundreds of people each year. These services are changing lives\, even saving lives right here in our own community!\n\nAll proceeds support the Safehouse Progressive Alliance for Nonviolence.
X-ALT-DESC;FMTTYPE=text/html:<h4>\n	Dine at&nbsp\;Papa Romano&#39\;s Pizza&nbsp\;on October 25 and&nbsp\;Papa Romano&#39\;s&nbsp\;will donate 10% of their proceeds to us!</h4>\n<br />\nOctober is Domestic Violence Awareness Month\, and on behalf of Safehouse Progressive Alliance for Nonviolence (SPAN)\, We are pleased to invite you to be a part of Dining to End Domestic Violence. This month-long series of fundraising events will support services for domestic violence survivors and their children in Boulder and Broomfield Counties.<br />\n<br />\nSince 1979 SPAN has been providing healing\, hope and opportunity to adults and children who are impacted by abuse. Our Domestic Violence Awareness Month events are a critical component to raising the funds needed to provide safe\, confidential emergency shelter\, counseling\, legal advocacy and more to hundreds of people each year. These services are changing lives\, even saving lives right here in our own community!<br />\nAll proceeds support the Safehouse Progressive Alliance for Nonviolence.<br />\n
LOCATION:1110 13th St. Boulder\, Colorado
UID:e.641.3073
SEQUENCE:3
DTSTAMP:20260420T005513Z
URL:http://business.broomfieldchamber.com/events/details/papa-romano-s-pizza-dining-to-end-domestic-violence-10-25-2011-3073
END:VEVENT

END:VCALENDAR
