BEGIN:VCALENDAR
VERSION:2.0
PRODID:-//ChamberMaster//Event Calendar 2.0//EN
METHOD:PUBLISH
X-PUBLISHED-TTL:P3D
REFRESH-INTERVAL:P3D
CALSCALE:GREGORIAN
BEGIN:VEVENT
DTSTART;VALUE=DATE:20110304
DTEND;VALUE=DATE:20110305
TRANSP:TRANSPARENT
X-MICROSOFT-CDO-ALLDAYEVENT:TRUE
SUMMARY:Play to Learn - Fun and Free Class
DESCRIPTION:If it's too cold outside\, children can play fun games that will keep them entertained and exercise their brains without turning on the TV.  Join in the fun as we play to learn!  Presenter: C. Blair Skinner\, LMFT.  FREE.  Register at: http://www.healthylearningpaths.org/?page=classregistration
X-ALT-DESC;FMTTYPE=text/html:If it's too cold outside\, children can play fun games that will keep them entertained and exercise their brains without turning on the TV.  Join in the fun as we play to learn!  Presenter: C. Blair Skinner\, LMFT.  FREE.  Register at: http://www.healthylearningpaths.org/?page=classregistration
LOCATION:Mamie Doud Eisenhower Library Eisenhower Room 3 Community Park Rd\, Broomfield
UID:e.641.1335
SEQUENCE:3
DTSTAMP:20260420T110543Z
URL:http://business.broomfieldchamber.com/events/details/play-to-learn-fun-and-free-class-03-04-2011-1335
END:VEVENT

END:VCALENDAR
