BEGIN:VCALENDAR
VERSION:2.0
PRODID:-//ChamberMaster//Event Calendar 2.0//EN
METHOD:PUBLISH
X-PUBLISHED-TTL:P3D
REFRESH-INTERVAL:P3D
CALSCALE:GREGORIAN
BEGIN:VEVENT
DTSTART:20110507T160000Z
DTEND:20110507T200000Z
X-MICROSOFT-CDO-ALLDAYEVENT:FALSE
SUMMARY:Pot a Posy for Mother's Day at Murdoch's Ranch & Home Supply
DESCRIPTION:Pot a Posy for Mother's Day
X-ALT-DESC;FMTTYPE=text/html:Pot a Posy for Mother's Day\n<br>
LOCATION:9150 Wadsworth Pkwy
UID:e.641.1457
SEQUENCE:3
DTSTAMP:20260420T080533Z
URL:http://business.broomfieldchamber.com/events/details/pot-a-posy-for-mother-s-day-at-murdoch-s-ranch-home-supply-05-07-2011-1457
END:VEVENT

END:VCALENDAR
