BEGIN:VCALENDAR
VERSION:2.0
PRODID:-//ChamberMaster//Event Calendar 2.0//EN
METHOD:PUBLISH
X-PUBLISHED-TTL:P3D
REFRESH-INTERVAL:P3D
CALSCALE:GREGORIAN
BEGIN:VEVENT
DTSTART:20100921T140000Z
DTEND:20100921T160000Z
X-MICROSOFT-CDO-ALLDAYEVENT:FALSE
SUMMARY:Power of 5 Leads Groups Event
DESCRIPTION:EVERYONE IS WELCOME!\n\n	Come and enjoy fresh-made pancakes\, coffee\, casual networking and more!\n\n	\n\n	Learn some valuable tips on EFFECIVE NETWORKING from our speakers!
X-ALT-DESC;FMTTYPE=text/html:<p>\n	<span style="font-size: 18px"><span style="color: #ff0000"><strong><span style="font-family: arial">EVERYONE IS WELCOME!</span></strong></span></span></p>\n<p>\n	<span style="color: #ff0000"><strong><span style="font-size: 16px"><span style="font-family: arial">Come and enjoy fresh-made pancakes\, coffee\, casual networking and more!</span></span></strong></span><br />\n	<br />\n	<span style="color: #000000"><strong><span style="font-size: 16px"><span style="font-family: arial">Learn some valuable tips on EFFECIVE NETWORKING from our speakers!</span></span></strong></span><br />\n	<br />\n	&nbsp\;</p>\n
LOCATION:Sill-Terhar Ford 150 Alter Street\, Broomfield\, CO 80020 Upstairs Room
UID:e.641.1143
SEQUENCE:3
DTSTAMP:20260420T202211Z
URL:http://business.broomfieldchamber.com/events/details/power-of-5-leads-groups-event-09-21-2010-1143
END:VEVENT

END:VCALENDAR
