BEGIN:VCALENDAR
VERSION:2.0
PRODID:-//ChamberMaster//Event Calendar 2.0//EN
METHOD:PUBLISH
X-PUBLISHED-TTL:P3D
REFRESH-INTERVAL:P3D
CALSCALE:GREGORIAN
BEGIN:VEVENT
DTSTART:20100305T150000Z
DTEND:20100305T170000Z
X-MICROSOFT-CDO-ALLDAYEVENT:FALSE
SUMMARY:Power of Five
DESCRIPTION:The Power of Five Joint Networking and Learning Event hosted by the Friday TGIF Group to benefit Senior Resources of Broomfield. Special guest speaker is Devon Pinkney of Premier Members Federal Credit Union speaking on Internet Social Networking. The $5 admission fee goes directly to benefit Senior Resources of Broomfield.  There will be a drawing for a basket. A continentail breakfast will be provided by the TGIF members and Safeway. Dont miss out on this great opportunity!
X-ALT-DESC;FMTTYPE=text/html:<div>The Power of Five Joint Networking and Learning Event hosted by the <strong>Friday TGIF Group </strong>to benefit <strong>Senior Resources of Broomfield.</strong></div><div>&nbsp\;</div><div>Special guest speaker is Devon Pinkney of Premier Members Federal Credit Union speaking on Internet Social Networking.</div><div>&nbsp\;</div><div>The $5 admission fee goes directly to benefit <strong>Senior Resources of Broomfield.&nbsp\; </strong>There will be a drawing for a basket.</div><div>&nbsp\;</div><div>A continentail breakfast will be provided by the TGIF members and Safeway.</div><div>&nbsp\;</div><div>Dont miss out on this great opportunity!</div>
LOCATION:Sill-TerHar Ford150 Alter StreetBroomfield\, CO 80020
UID:e.641.467
SEQUENCE:3
DTSTAMP:20260421T055644Z
URL:http://business.broomfieldchamber.com/events/details/power-of-five-03-05-2010-467
END:VEVENT

END:VCALENDAR
