BEGIN:VCALENDAR
VERSION:2.0
PRODID:-//ChamberMaster//Event Calendar 2.0//EN
METHOD:PUBLISH
X-PUBLISHED-TTL:P3D
REFRESH-INTERVAL:P3D
CALSCALE:GREGORIAN
BEGIN:VEVENT
DTSTART:20090209T070000Z
DTEND:20090209T070000Z
X-MICROSOFT-CDO-ALLDAYEVENT:FALSE
SUMMARY:Power of Five Meeting 02/09
DESCRIPTION:
X-ALT-DESC;FMTTYPE=text/html:
LOCATION:Sill-TerHar Ford
UID:e.641.436
SEQUENCE:3
DTSTAMP:20260422T031436Z
URL:http://business.broomfieldchamber.com/events/details/power-of-five-meeting-02-09-02-09-2009-436
END:VEVENT

END:VCALENDAR
