BEGIN:VCALENDAR
VERSION:2.0
PRODID:-//ChamberMaster//Event Calendar 2.0//EN
METHOD:PUBLISH
X-PUBLISHED-TTL:P3D
REFRESH-INTERVAL:P3D
CALSCALE:GREGORIAN
BEGIN:VEVENT
DTSTART:20090512T060000Z
DTEND:20090512T060000Z
X-MICROSOFT-CDO-ALLDAYEVENT:FALSE
SUMMARY:Power of Five Meeting 05/09
DESCRIPTION:
X-ALT-DESC;FMTTYPE=text/html:
LOCATION:Runway Grill
UID:e.641.446
SEQUENCE:3
DTSTAMP:20260421T215833Z
URL:http://business.broomfieldchamber.com/events/details/power-of-five-meeting-05-09-05-12-2009-446
END:VEVENT

END:VCALENDAR
