BEGIN:VCALENDAR
VERSION:2.0
PRODID:-//ChamberMaster//Event Calendar 2.0//EN
METHOD:PUBLISH
X-PUBLISHED-TTL:P3D
REFRESH-INTERVAL:P3D
CALSCALE:GREGORIAN
BEGIN:VEVENT
DTSTART:20080820T060000Z
DTEND:20080820T060000Z
X-MICROSOFT-CDO-ALLDAYEVENT:FALSE
SUMMARY:Power of Five Meeting 08/08
DESCRIPTION:
X-ALT-DESC;FMTTYPE=text/html:
LOCATION:Sill-TerHar Ford
UID:e.641.418
SEQUENCE:3
DTSTAMP:20260422T144817Z
URL:http://business.broomfieldchamber.com/events/details/power-of-five-meeting-08-08-08-20-2008-418
END:VEVENT

END:VCALENDAR
