BEGIN:VCALENDAR
VERSION:2.0
PRODID:-//ChamberMaster//Event Calendar 2.0//EN
METHOD:PUBLISH
X-PUBLISHED-TTL:P3D
REFRESH-INTERVAL:P3D
CALSCALE:GREGORIAN
BEGIN:VEVENT
DTSTART:20100621T140000Z
DTEND:20100621T150000Z
X-MICROSOFT-CDO-ALLDAYEVENT:FALSE
SUMMARY:Power of Five Networking Event
DESCRIPTION:Power of Five - This is great opportunity where all five Chamber Leads Groups to get together to network! Feel free to join us as a guest if you are interested in learning more about any or all of our Leads Groups! There will be a full breakfast bar! It will be a great opportunity to network and to support a local non-profit organization\, the Broomfield Choral Festival featuring one of our very own Monday Means Business Leads Group Members Ron Williams!
X-ALT-DESC;FMTTYPE=text/html:<div>Power of Five - This is great opportunity where all five Chamber Leads Groups to get together to network! Feel free to join us as a guest if you are interested in learning more about any or all of our Leads Groups! There will be a full breakfast bar! It will be a great opportunity to network and to support a local non-profit organization\, the Broomfield Choral Festival featuring one of our very own Monday Means Business Leads Group Members Ron Williams! <br />&nbsp\;</div>
LOCATION:Hyatt Summerfield Suites 13351 West Midway Boulevard Broomfield\, CO 80020
UID:e.641.1082
SEQUENCE:3
DTSTAMP:20260421T010025Z
URL:http://business.broomfieldchamber.com/events/details/power-of-five-networking-event-06-21-2010-1082
END:VEVENT

END:VCALENDAR
