BEGIN:VCALENDAR
VERSION:2.0
PRODID:-//ChamberMaster//Event Calendar 2.0//EN
METHOD:PUBLISH
X-PUBLISHED-TTL:P3D
REFRESH-INTERVAL:P3D
CALSCALE:GREGORIAN
BEGIN:VEVENT
DTSTART:20100508T163000Z
DTEND:20100508T200000Z
X-MICROSOFT-CDO-ALLDAYEVENT:FALSE
SUMMARY:Power of Wellness @ Defy Fitness
DESCRIPTION:Come experience the "Power of Wellness" at this FREE & unique event. Kate Pfeiffer with Vitality through Nutrition\, Jonathan Sabar with Defy Fitness and Larry Pierce\, LCI Certified Personal Life Coach will be speaking on their related subjects of wellness which will include exercise\, fitness\, nutrition\, positive attitude and learning to set short term achievable goals to help you incorporate a lifestyle of wellness.. Q & A session\, short Crossfit workout and chances to win door prizes.  Plus a time of mingling & socializing with a FREE BBQ!!
X-ALT-DESC;FMTTYPE=text/html:Come experience the "Power of Wellness" at this FREE &amp\; unique event. Kate Pfeiffer with Vitality through Nutrition\, Jonathan Sabar with Defy Fitness and Larry Pierce\, LCI Certified Personal Life Coach will be speaking on their related subjects of wellness which will include exercise\, fitness\, nutrition\, positive attitude and learning to set short term achievable goals to help you incorporate a lifestyle of wellness.. Q &amp\; A session\, short Crossfit workout and chances to win door prizes.  Plus a time of mingling &amp\; socializing with a FREE BBQ!!
LOCATION:Defy Fitness\, 6850 West 116th Avenue Broomfield\, CO 80020
UID:e.641.1002
SEQUENCE:3
DTSTAMP:20260421T041033Z
URL:http://business.broomfieldchamber.com/events/details/power-of-wellness-defy-fitness-05-08-2010-1002
END:VEVENT

END:VCALENDAR
