BEGIN:VCALENDAR
VERSION:2.0
PRODID:-//ChamberMaster//Event Calendar 2.0//EN
METHOD:PUBLISH
X-PUBLISHED-TTL:P3D
REFRESH-INTERVAL:P3D
CALSCALE:GREGORIAN
BEGIN:VEVENT
DTSTART;VALUE=DATE:20110507
DTEND;VALUE=DATE:20110508
TRANSP:TRANSPARENT
X-MICROSOFT-CDO-ALLDAYEVENT:TRUE
SUMMARY:Pre-School Gala Celebration
DESCRIPTION:Our Pre-School Ballet dancers will perform for you in our BNC Performance Theatre\, presenting both a class demonstration and their Gala dance. They will be joined on the program by our Student Company dancers\, who will perform selections from their repertoire\, as well as some upper-level students from the school. Following the performance\, enjoy refreshments\, photographs and crafts in Studio 4 to celebrate a wonderful school year along with their friends and teachers. The entire program\, including performance and celebration\, will last approximately one hour each.\n\nDate & Times: May 7th at 2pm\, 3pm\, 4pm\, 5pm
X-ALT-DESC;FMTTYPE=text/html:Our Pre-School Ballet dancers will perform for you in our BNC Performance Theatre\, presenting both a class demonstration and their Gala dance. They will be joined on the program by our Student Company dancers\, who will perform selections from their repertoire\, as well as some upper-level students from the school. Following the performance\, enjoy refreshments\, photographs and crafts in Studio 4 to celebrate a wonderful school year along with their friends and teachers. The entire program\, including performance and celebration\, will last approximately one hour each.\n<br>Date &amp\; Times: May 7th at 2pm\, 3pm\, 4pm\, 5pm \n<br>
LOCATION:Ballet Nouveau Colorado
UID:e.641.1437
SEQUENCE:3
DTSTAMP:20260420T075543Z
URL:http://business.broomfieldchamber.com/events/details/pre-school-gala-celebration-05-07-2011-1437
END:VEVENT

END:VCALENDAR
