BEGIN:VCALENDAR
VERSION:2.0
PRODID:-//ChamberMaster//Event Calendar 2.0//EN
METHOD:PUBLISH
X-PUBLISHED-TTL:P3D
REFRESH-INTERVAL:P3D
CALSCALE:GREGORIAN
BEGIN:VEVENT
DTSTART;VALUE=DATE:20120220
DTEND;VALUE=DATE:20120221
TRANSP:TRANSPARENT
X-MICROSOFT-CDO-ALLDAYEVENT:TRUE
SUMMARY:President's Day
DESCRIPTION:The Broomfield Chamber Office will be closed all day on Monday\, February 20th in observance of President's Day. If you are in need of any information regarding the Chamber please go to: http://www.broomfieldchamber.com/
X-ALT-DESC;FMTTYPE=text/html:The Broomfield Chamber Office will be closed all day on Monday\,&nbsp\;February&nbsp\;20th in observance of President&#39\;s Day. If you are in need of any information regarding the Chamber please go to: <a href="http://www.broomfieldchamber.com/">http://www.broomfieldchamber.com/</a>
LOCATION:
UID:e.641.3167
SEQUENCE:3
DTSTAMP:20260419T193036Z
URL:http://business.broomfieldchamber.com/events/details/president-s-day-02-20-2012-3167
END:VEVENT

END:VCALENDAR
