BEGIN:VCALENDAR
VERSION:2.0
PRODID:-//ChamberMaster//Event Calendar 2.0//EN
METHOD:PUBLISH
X-PUBLISHED-TTL:P3D
REFRESH-INTERVAL:P3D
CALSCALE:GREGORIAN
BEGIN:VEVENT
DTSTART:20111105T153000Z
DTEND:20111105T190000Z
X-MICROSOFT-CDO-ALLDAYEVENT:FALSE
SUMMARY:PURE GIVE at Pure Barre Broomfield
DESCRIPTION:Pure Barre believes strongly in giving back and we are looking forward to PB Broomfield's 1st Pure Give event! The Pure Give classes are offered at 9:30\, 10:40 and 12:00 \, which will be donation only classes. All proceeds will be donated to The American Humane Society. The Human Society's mission is to protect both children and animals from cruelty\, abuse and neglect. Please visit www.americanhumane.org for more information.\n\n\n\nPlease sign up on our website to reserve your spot at www.purebarre.com.  (locations: Broomfield)\n\nPlease bring cash/check for the event. We hope you can all join us as we are looking forward to supporting a great organization.  Also don't miss your chance for a free workout!  Come to Pure Barre to Lift\, Tone & Burn!  \n\n\n\nThank you and we look forward to seeing on you Saturday\, Nov 5th!  We are located in the Bradburn Villiage Neighborhood across the street from Ted's Montana Grill.
X-ALT-DESC;FMTTYPE=text/html:Pure Barre believes strongly in giving back and we are looking forward to PB Broomfield&rsquo\;s 1st Pure Give event! The Pure Give classes are offered at 9:30\, 10:40 and 12:00 \, which will be donation only classes. All proceeds will be donated to The American Humane Society. The Human Society&rsquo\;s mission is to protect both children and animals from cruelty\, abuse and neglect. Please visit&nbsp\;www.americanhumane.org for more information.<br />\n<br />\nPlease sign up on our website to reserve your spot at www.purebarre.com. &nbsp\;(locations: Broomfield)<br />\nPlease bring cash/check for the event. We hope you can all join us as we are looking forward to supporting a great organization. &nbsp\;Also don&#39\;t miss your chance for a free workout! &nbsp\;Come to Pure Barre to Lift\, Tone &amp\; Burn! &nbsp\;<br />\n<br />\nThank you and we look forward to seeing on you Saturday\, Nov 5th! &nbsp\;We are located in the Bradburn Villiage Neighborhood across the street from Ted&#39\;s Montana Grill. &nbsp\;<br />\n&nbsp\;
LOCATION:11961 Bradburn Blvd. Suite 500 Westminster\, CO 80031
UID:e.641.3102
SEQUENCE:3
DTSTAMP:20260419T235701Z
URL:http://business.broomfieldchamber.com/events/details/pure-give-at-pure-barre-broomfield-11-05-2011-3102
END:VEVENT

END:VCALENDAR
