BEGIN:VCALENDAR
VERSION:2.0
PRODID:-//ChamberMaster//Event Calendar 2.0//EN
METHOD:PUBLISH
X-PUBLISHED-TTL:P3D
REFRESH-INTERVAL:P3D
CALSCALE:GREGORIAN
BEGIN:VEVENT
DTSTART;VALUE=DATE:20110422
DTEND;VALUE=DATE:20110425
TRANSP:TRANSPARENT
X-MICROSOFT-CDO-ALLDAYEVENT:TRUE
SUMMARY:Rarities & Oddities by BNC Dance
DESCRIPTION:A no holds barred show filled with crazy ideas that might otherwise never see the light of day. New possibilities will arise for both the artists and the audience as they enter into an experience where supposition has not only been removed\, but replaced with anticipation. Check your inhibitions at the door...because we sure will.
X-ALT-DESC;FMTTYPE=text/html:A no holds barred show filled with crazy ideas that might otherwise never see the light of day. New possibilities will arise for both the artists and the audience as they enter into an experience where supposition has not only been removed\, but replaced with anticipation. Check your inhibitions at the door...because we sure will.
LOCATION:Performing Arts Complex at PCS 1001 W 84th Avenue Denver\, CO - United States
UID:e.641.1205
SEQUENCE:3
DTSTAMP:20260420T093302Z
URL:http://business.broomfieldchamber.com/events/details/rarities-oddities-by-bnc-dance-04-22-2011-1205
END:VEVENT

END:VCALENDAR
