BEGIN:VCALENDAR
VERSION:2.0
PRODID:-//ChamberMaster//Event Calendar 2.0//EN
METHOD:PUBLISH
X-PUBLISHED-TTL:P3D
REFRESH-INTERVAL:P3D
CALSCALE:GREGORIAN
BEGIN:VEVENT
DTSTART:20110216T010000Z
DTEND:20110216T023000Z
X-MICROSOFT-CDO-ALLDAYEVENT:FALSE
SUMMARY:Raymond James Event: Social Security & You
DESCRIPTION:When should you start taking Social Security?  How do you maximize benefits?  What effect does a marriage and spouse have on this income?  These are just a few of the important questions we will address at our gathering.  Your hosts are Eric Holloway and Tom Mahoney\, Financial Advisors with Raymond James & Associates.  This will be an enjoyable eveing with drinks and heavy appetizers.  Please bring your questions and join us.
X-ALT-DESC;FMTTYPE=text/html:When should you start taking Social Security?  How do you maximize benefits?  What effect does a marriage and spouse have on this income?  These are just a few of the important questions we will address at our gathering.  Your hosts are Eric Holloway and Tom Mahoney\, Financial Advisors with Raymond James &amp\; Associates.  This will be an enjoyable eveing with drinks and heavy appetizers.  Please bring your questions and join us.
LOCATION:The Stratford at Flatirons 400 Summit Blvd\, Broomfield 80021
UID:e.641.1309
SEQUENCE:3
DTSTAMP:20260420T125931Z
URL:http://business.broomfieldchamber.com/events/details/raymond-james-event-social-security-you-02-15-2011-1309
END:VEVENT

END:VCALENDAR
