BEGIN:VCALENDAR
VERSION:2.0
PRODID:-//ChamberMaster//Event Calendar 2.0//EN
METHOD:PUBLISH
X-PUBLISHED-TTL:P3D
REFRESH-INTERVAL:P3D
CALSCALE:GREGORIAN
BEGIN:VEVENT
DTSTART:20100716T210000Z
DTEND:20100717T000000Z
X-MICROSOFT-CDO-ALLDAYEVENT:FALSE
SUMMARY:RE/MAX Office Open House
DESCRIPTION:RE/MAX Alliance is hosting an Office Open House event to celebrate the grand opening of the Broomfield Office.  RE/MAX is the largest Real Estate office in Broomfield.  Come join us for appetizers\, refreshments and a fun time!
X-ALT-DESC;FMTTYPE=text/html:RE/MAX Alliance is hosting an Office Open House event to celebrate the grand opening of the Broomfield Office.  RE/MAX is the largest Real Estate office in Broomfield.  Come join us for appetizers\, refreshments and a fun time!
LOCATION:6343 W. 120th Ave #100\, Broomfield\, CO 80021
UID:e.641.1129
SEQUENCE:3
DTSTAMP:20260420T232935Z
URL:http://business.broomfieldchamber.com/events/details/re-max-office-open-house-07-16-2010-1129
END:VEVENT

END:VCALENDAR
