BEGIN:VCALENDAR
VERSION:2.0
PRODID:-//ChamberMaster//Event Calendar 2.0//EN
METHOD:PUBLISH
X-PUBLISHED-TTL:P3D
REFRESH-INTERVAL:P3D
CALSCALE:GREGORIAN
BEGIN:VEVENT
DTSTART:20110223T010000Z
DTEND:20110223T020000Z
X-MICROSOFT-CDO-ALLDAYEVENT:FALSE
SUMMARY:Ready for School Night @ Bright Horizons
DESCRIPTION:Learn more about how the curriculum and teachers at Bright Horizons at the Ranch Reserve prepare your child for success in school and life.\n\n\n\n~ Let us introduce you to the components of our curriculum that enhance your child's experience\n\n~ Hear what teachers in the school systems have said about Bright Horizons' students and their academic preparedness\n\n~ Experience all that happens in your child's day at Bright Horizons and how that prepares her for success in science\, math\, language\, reading\, and social interactions\n\n~ Discover how Bright Horizons works to facilitate a smooth and successful transition from our program to the next step in your child's education
X-ALT-DESC;FMTTYPE=text/html:<span style="font-size: 16px"><strong>Learn more about how the curriculum and teachers at Bright Horizons at the Ranch Reserve prepare your child for success in school and life.</strong></span><br />\n<br />\n~ Let us introduce you to the components of our curriculum that enhance your child&#39\;s experience<br />\n~ Hear what teachers in the school systems have said about Bright Horizons&#39\; students and their academic preparedness<br />\n~ Experience all that happens in your child&#39\;s day at Bright Horizons and how that prepares her for success in science\, math\, language\, reading\, and social interactions<br />\n~ Discover how Bright Horizons works to facilitate a smooth and successful transition from our program to the next step in your child&#39\;s education<br />\n
LOCATION:Bright Horizons at the Ranch Reserve 11305 Decatur St. Westminster\, CO
UID:e.641.1308
SEQUENCE:3
DTSTAMP:20260420T124733Z
URL:http://business.broomfieldchamber.com/events/details/ready-for-school-night-bright-horizons-02-22-2011-1308
END:VEVENT

END:VCALENDAR
