BEGIN:VCALENDAR
VERSION:2.0
PRODID:-//ChamberMaster//Event Calendar 2.0//EN
METHOD:PUBLISH
X-PUBLISHED-TTL:P3D
REFRESH-INTERVAL:P3D
CALSCALE:GREGORIAN
BEGIN:VEVENT
DTSTART:20101113T160000Z
DTEND:20101114T000000Z
X-MICROSOFT-CDO-ALLDAYEVENT:FALSE
SUMMARY:Reclaim Your Potential
DESCRIPTION:One Day Intensive Journey of Awakening Your Inner Resources! \n\nDiscover the 3 Secrets: \n\nIntuition\n\nEnergy\n\nAction\n\n\n\nThis is a FREE Event\n\nSpace is limited RSVP is Required\n\nWhen: November 13th & 16th    \n\nTime: 9am-5pm\n\nLocation: Broomfield\, CO\n\nRSVP online www.AwakenSister.com/events or email Jade@AwakenSister.com
X-ALT-DESC;FMTTYPE=text/html:One Day Intensive Journey of Awakening Your Inner Resources! \n<br>Discover the 3 Secrets: \n<br>Intuition\n<br>Energy\n<br>Action\n<br>\n<br>This is a FREE Event\n<br>Space is limited RSVP is Required\n<br>When: November 13th &amp\; 16th    \n<br>Time: 9am-5pm\n<br>Location: Broomfield\, CO\n<br>RSVP online www.AwakenSister.com/events or email Jade@AwakenSister.com\n<br>
LOCATION:TBA When RSVP
UID:e.641.1220
SEQUENCE:3
DTSTAMP:20260420T185742Z
URL:http://business.broomfieldchamber.com/events/details/reclaim-your-potential-11-13-2010-1220
END:VEVENT

END:VCALENDAR
