BEGIN:VCALENDAR
VERSION:2.0
PRODID:-//ChamberMaster//Event Calendar 2.0//EN
METHOD:PUBLISH
X-PUBLISHED-TTL:P3D
REFRESH-INTERVAL:P3D
CALSCALE:GREGORIAN
BEGIN:VEVENT
DTSTART:20110717T010000Z
DTEND:20110717T030000Z
X-MICROSOFT-CDO-ALLDAYEVENT:FALSE
SUMMARY:Red June at Broomfield Auditorium
DESCRIPTION:Beautifully Distilled Americana The Red June sound is as versatile and original as the musicians themselves\; they touch on bluegrass\, roots rock\, and traditional country music with powerful harmonies\, innovative songwriting and expert musicianship.
X-ALT-DESC;FMTTYPE=text/html:Beautifully Distilled Americana The Red June sound is as versatile and original as the musicians themselves\; they touch on bluegrass\, roots rock\, and traditional country music with powerful harmonies\, innovative songwriting and expert musicianship. 
LOCATION:Broomfield Auditorium
UID:e.641.1711
SEQUENCE:3
DTSTAMP:20260420T050858Z
URL:http://business.broomfieldchamber.com/events/details/red-june-at-broomfield-auditorium-07-16-2011-1711
END:VEVENT

END:VCALENDAR
