BEGIN:VCALENDAR
VERSION:2.0
PRODID:-//ChamberMaster//Event Calendar 2.0//EN
METHOD:PUBLISH
X-PUBLISHED-TTL:P3D
REFRESH-INTERVAL:P3D
CALSCALE:GREGORIAN
BEGIN:VEVENT
DTSTART:20111105T020000Z
DTEND:20111107T030000Z
X-MICROSOFT-CDO-ALLDAYEVENT:FALSE
SUMMARY:RedLine + BNC A Shared Experience in Art
DESCRIPTION:Just in time for Denver Arts Week\, Ballet Nouveau Colorado comes together with RedLine to create its first co-production. Six of RedLine's resident artists and four choreographers will create a world premiere production of that erases the boundaries between artistic mediums. This show will premiere in situ at RedLine's gallery during their annual resident artist exhibition.
X-ALT-DESC;FMTTYPE=text/html:<span style="font-size: 14px"><span style="font-family: verdana">Just in time for Denver Arts Week\, Ballet Nouveau Colorado comes together with RedLine to create its first co-production. Six of RedLine&#39\;s resident artists and four choreographers will create a world premiere production of that erases the boundaries between artistic mediums. This show will premiere in situ at RedLine&#39\;s gallery during their annual resident artist exhibition.</span></span><br />\n<br />\n
LOCATION:RedLine\, 2350 Arapahoe St.\, Denver 80205
UID:e.641.3085
SEQUENCE:3
DTSTAMP:20260420T004514Z
URL:http://business.broomfieldchamber.com/events/details/redline-bnc-a-shared-experience-in-art-11-04-2011-3085
END:VEVENT

END:VCALENDAR
