BEGIN:VCALENDAR
VERSION:2.0
PRODID:-//ChamberMaster//Event Calendar 2.0//EN
METHOD:PUBLISH
X-PUBLISHED-TTL:P3D
REFRESH-INTERVAL:P3D
CALSCALE:GREGORIAN
BEGIN:VEVENT
DTSTART:20120309T020000Z
DTEND:20120309T030000Z
X-MICROSOFT-CDO-ALLDAYEVENT:FALSE
SUMMARY:Relieving Arthritis Knee Pain
DESCRIPTION:By the time we're 50\, our knees have carried us more than 75\,000 miles. Most of us don't give our knees a second thought until degenerative arthritis takes its painful toll and threatens to end our active lifestyle. Luckily\, effective treatments are available.\n\n\n\nCome hear a board-certified orthopedic surgeon describe the latest approaches for relieving the pain of degenerative knee arthritis from exercises and medications to new surgical treatments. Reservations required. Call 303-441-0580 or visit bchlectures.org/knee
X-ALT-DESC;FMTTYPE=text/html:By the time we&rsquo\;re 50\, our knees have carried us more than 75\,000 miles. Most of us don&rsquo\;t give our knees a second thought&mdash\;until degenerative arthritis takes its painful toll and threatens to end our active lifestyle. Luckily\, effective treatments are available.<br />\n<br />\nCome hear a board-certified orthopedic surgeon describe the latest approaches for relieving the pain of degenerative knee arthritis&mdash\;from exercises and medications to new surgical treatments. Reservations required. Call 303-441-0580 or visit bchlectures.org/knee
LOCATION:Omni Interlocken Spa & Resort\, 500 Interlocken Blvd.\, Broomfield
UID:e.641.3493
SEQUENCE:3
DTSTAMP:20260419T175219Z
URL:http://business.broomfieldchamber.com/events/details/relieving-arthritis-knee-pain-03-08-2012-3493
END:VEVENT

END:VCALENDAR
