BEGIN:VCALENDAR
VERSION:2.0
PRODID:-//ChamberMaster//Event Calendar 2.0//EN
METHOD:PUBLISH
X-PUBLISHED-TTL:P3D
REFRESH-INTERVAL:P3D
CALSCALE:GREGORIAN
BEGIN:VEVENT
DTSTART:20100520T151500Z
DTEND:20100520T180000Z
X-MICROSOFT-CDO-ALLDAYEVENT:FALSE
SUMMARY:REV Networking - Speed Networking
DESCRIPTION:Make business to business connections at this structured\, fast paced\, efficient\, and fun REV Networking event.  Meet up to 16 professionals\, all representing one profession\, in 6 minute conversations.  Hundreds of thousands of real revenue dollars has been generated by this event.  It is not your typical happy hour networking event\, rather a unique opportunity to do BUSINESS!
X-ALT-DESC;FMTTYPE=text/html:Make business to business connections at this structured\, fast paced\, efficient\, and fun REV Networking event.  Meet up to 16 professionals\, all representing one profession\, in 6 minute conversations.  Hundreds of thousands of real revenue dollars has been generated by this event.  It is not your typical happy hour networking event\, rather a unique opportunity to do BUSINESS!
LOCATION:Schomp BMW 1190 Plum Valley Lane Highlands Ranch CO 80129
UID:e.641.1046
SEQUENCE:3
DTSTAMP:20260421T022618Z
URL:http://business.broomfieldchamber.com/events/details/rev-networking-speed-networking-05-20-2010-1046
END:VEVENT

END:VCALENDAR
