BEGIN:VCALENDAR
VERSION:2.0
PRODID:-//ChamberMaster//Event Calendar 2.0//EN
METHOD:PUBLISH
X-PUBLISHED-TTL:P3D
REFRESH-INTERVAL:P3D
CALSCALE:GREGORIAN
BEGIN:VEVENT
DTSTART:20120120T190000Z
DTEND:20120120T200000Z
X-MICROSOFT-CDO-ALLDAYEVENT:FALSE
SUMMARY:Reverse Mortgage Seminar at Orion Mortgage
DESCRIPTION:Reverse Mortgage\n\nYoung or old\, everyone should understand them.\n\nDiscover the myths and facts about reverse mortgages.\n\nAttend a free lunch and learn seminar.
X-ALT-DESC;FMTTYPE=text/html:<span style="font-size: 14px">Reverse Mortgage</span><br />\n<span style="font-size: 14px">Young or old\, everyone should understand them.<br />\nDiscover the myths and facts about reverse mortgages.<br />\nAttend a free lunch and learn seminar.</span>
LOCATION:Corporate Office Centers 12303 Airport Way #220 Broomfield CO 80021
UID:e.641.3185
SEQUENCE:3
DTSTAMP:20260419T205840Z
URL:http://business.broomfieldchamber.com/events/details/reverse-mortgage-seminar-at-orion-mortgage-01-20-2012-3185
END:VEVENT

END:VCALENDAR
