BEGIN:VCALENDAR
VERSION:2.0
PRODID:-//ChamberMaster//Event Calendar 2.0//EN
METHOD:PUBLISH
X-PUBLISHED-TTL:P3D
REFRESH-INTERVAL:P3D
CALSCALE:GREGORIAN
BEGIN:VEVENT
DTSTART:20100602T180000Z
DTEND:20100602T190000Z
X-MICROSOFT-CDO-ALLDAYEVENT:FALSE
SUMMARY:Ribbon Cutting 3D Vision Eye Care
DESCRIPTION:3D Vision
X-ALT-DESC;FMTTYPE=text/html:<div>3D Vision</div>
LOCATION:5760 W. 120th AveBroomfield
UID:e.641.1063
SEQUENCE:3
DTSTAMP:20260421T023030Z
URL:http://business.broomfieldchamber.com/events/details/ribbon-cutting-3d-vision-eye-care-06-02-2010-1063
END:VEVENT

END:VCALENDAR
