BEGIN:VCALENDAR
VERSION:2.0
PRODID:-//ChamberMaster//Event Calendar 2.0//EN
METHOD:PUBLISH
X-PUBLISHED-TTL:P3D
REFRESH-INTERVAL:P3D
CALSCALE:GREGORIAN
BEGIN:VEVENT
DTSTART:20100712T190000Z
DTEND:20100712T200000Z
X-MICROSOFT-CDO-ALLDAYEVENT:FALSE
SUMMARY:Ribbon Cutting Capital Asset Group
DESCRIPTION:Lunch will be provided
X-ALT-DESC;FMTTYPE=text/html:<div>Lunch will be provided</div>
LOCATION:Chamber Offices
UID:e.641.1102
SEQUENCE:3
DTSTAMP:20260420T233218Z
URL:http://business.broomfieldchamber.com/events/details/ribbon-cutting-capital-asset-group-07-12-2010-1102
END:VEVENT

END:VCALENDAR
