BEGIN:VCALENDAR
VERSION:2.0
PRODID:-//ChamberMaster//Event Calendar 2.0//EN
METHOD:PUBLISH
X-PUBLISHED-TTL:P3D
REFRESH-INTERVAL:P3D
CALSCALE:GREGORIAN
BEGIN:VEVENT
DTSTART:20100427T180000Z
DTEND:20100427T190000Z
X-MICROSOFT-CDO-ALLDAYEVENT:FALSE
SUMMARY:Ribbon Cutting CYA Billing Solutions\, Inc.
DESCRIPTION:Ribbon Cutting for CYA Billing Solutions\, Inc.
X-ALT-DESC;FMTTYPE=text/html:<div>Ribbon Cutting for CYA Billing Solutions\, Inc.</div>
LOCATION:At Chamber Offices
UID:e.641.1004
SEQUENCE:3
DTSTAMP:20260421T041427Z
URL:http://business.broomfieldchamber.com/events/details/ribbon-cutting-cya-billing-solutions-inc-04-27-2010-1004
END:VEVENT

END:VCALENDAR
