BEGIN:VCALENDAR
VERSION:2.0
PRODID:-//ChamberMaster//Event Calendar 2.0//EN
METHOD:PUBLISH
X-PUBLISHED-TTL:P3D
REFRESH-INTERVAL:P3D
CALSCALE:GREGORIAN
BEGIN:VEVENT
DTSTART:20100708T180000Z
DTEND:20100708T190000Z
X-MICROSOFT-CDO-ALLDAYEVENT:FALSE
SUMMARY:Ribbon Cutting Eagle Legacy Credit Union
DESCRIPTION:Lunch will be provided
X-ALT-DESC;FMTTYPE=text/html:<div>Lunch will be provided</div>
LOCATION:1100 US HWY 287\, Suite A800Broomfield\, CO 80020
UID:e.641.1106
SEQUENCE:3
DTSTAMP:20260420T233214Z
URL:http://business.broomfieldchamber.com/events/details/ribbon-cutting-eagle-legacy-credit-union-07-08-2010-1106
END:VEVENT

END:VCALENDAR
