BEGIN:VCALENDAR
VERSION:2.0
PRODID:-//ChamberMaster//Event Calendar 2.0//EN
METHOD:PUBLISH
X-PUBLISHED-TTL:P3D
REFRESH-INTERVAL:P3D
CALSCALE:GREGORIAN
BEGIN:VEVENT
DTSTART:20120615T170000Z
DTEND:20120615T180000Z
X-MICROSOFT-CDO-ALLDAYEVENT:FALSE
SUMMARY:Ribbon Cutting for 8 Hands Martial Arts
DESCRIPTION:8 Hands Martial Arts a center for holistic personalized self-defense.  Specializing in and providing to all students individual\, partner\, and group sessions.  Age appropriate directed classes and ability focused teaching\, provide the most enriching experience and a true learning environment for adults and children. Offering sport\, structural and postural massage therapy\, visit them at 300 Nickel St. Ste. 4 or call us toll free at (888) 423-9194
X-ALT-DESC;FMTTYPE=text/html:<span style="font-family:arial\;"><span style="font-size: 12pt\;">8 Hands Martial Arts a center for holistic personalized self-defense. &nbsp\;Specializing in and providing to all students individual\, partner\, and group sessions. &nbsp\;Age appropriate directed classes and ability focused teaching\, provide the most enriching experience and a true learning environment for adults and children. Offering sport\, structural and postural massage therapy\, visit them at 300 Nickel St. Ste. 4 or call us toll free at (888) 423-9194 </span></span>
LOCATION:300 Nickel Street Broomfield CO 80020
UID:e.641.4261
SEQUENCE:3
DTSTAMP:20260419T133158Z
URL:http://business.broomfieldchamber.com/events/details/ribbon-cutting-for-8-hands-martial-arts-06-15-2012-4261
END:VEVENT

END:VCALENDAR
