BEGIN:VCALENDAR
VERSION:2.0
PRODID:-//ChamberMaster//Event Calendar 2.0//EN
METHOD:PUBLISH
X-PUBLISHED-TTL:P3D
REFRESH-INTERVAL:P3D
CALSCALE:GREGORIAN
BEGIN:VEVENT
DTSTART:20100816T160000Z
DTEND:20100816T170000Z
X-MICROSOFT-CDO-ALLDAYEVENT:FALSE
SUMMARY:Ribbon Cutting for Absolute 1st Choice
DESCRIPTION:Coffee and donuts for all
X-ALT-DESC;FMTTYPE=text/html:<div>Coffee and donuts for all</div>
LOCATION:Chamber office
UID:e.641.1157
SEQUENCE:3
DTSTAMP:20260420T215536Z
URL:http://business.broomfieldchamber.com/events/details/ribbon-cutting-for-absolute-1st-choice-08-16-2010-1157
END:VEVENT

END:VCALENDAR
