BEGIN:VCALENDAR
VERSION:2.0
PRODID:-//ChamberMaster//Event Calendar 2.0//EN
METHOD:PUBLISH
X-PUBLISHED-TTL:P3D
REFRESH-INTERVAL:P3D
CALSCALE:GREGORIAN
BEGIN:VEVENT
DTSTART:20100325T210000Z
DTEND:20100325T220000Z
X-MICROSOFT-CDO-ALLDAYEVENT:FALSE
SUMMARY:Ribbon Cutting for Adult Day Program-Relatively Close
DESCRIPTION:Ribbon Cutting for Adult Day Program-Relatively Close (at Presbyterian Church of Broomfield)
X-ALT-DESC;FMTTYPE=text/html:<div>Ribbon Cutting for Adult Day Program-Relatively Close (at Presbyterian Church of Broomfield)</div>
LOCATION:350 Main StreetBroomfield\, CO 80020
UID:e.641.583
SEQUENCE:3
DTSTAMP:20260421T055900Z
URL:http://business.broomfieldchamber.com/events/details/ribbon-cutting-for-adult-day-program-relatively-close-03-25-2010-583
END:VEVENT

END:VCALENDAR
