BEGIN:VCALENDAR
VERSION:2.0
PRODID:-//ChamberMaster//Event Calendar 2.0//EN
METHOD:PUBLISH
X-PUBLISHED-TTL:P3D
REFRESH-INTERVAL:P3D
CALSCALE:GREGORIAN
BEGIN:VEVENT
DTSTART:20110513T170000Z
DTEND:20110513T180000Z
X-MICROSOFT-CDO-ALLDAYEVENT:FALSE
SUMMARY:Ribbon Cutting for Advanced Medical Imaging
DESCRIPTION:Advanced Medical Imaging is a leading provider of diagnostic imaging services across the Denver metro area.\n\n	Overall services include: MRI\, CT\, PET/CT\, ultrasound\, X-ray\, interventional procedures\, comprehensive breast center\, and varicose vein therapy. \n\n	We are committed to providing the area with compassionate and convenient care.  Services at our McCaslin facility include:  MRI\, CT\, ultrasound\, and X-rays.
X-ALT-DESC;FMTTYPE=text/html:<p>\n	<em><span style="font-size: medium"><span style="font-family: calibri">Advanced Medical Imaging is a leading provider of diagnostic imaging services across the Denver metro area.<br />\n	Overall services include: MRI\, CT\, PET/CT\, ultrasound\, X-ray\, interventional procedures\, comprehensive breast center\, and varicose vein therapy.&nbsp\;<br />\n	We are committed to providing the area with compassionate and convenient care.&nbsp\; Services at our McCaslin facility include:&nbsp\; MRI\, CT\, ultrasound\, and X-rays.</span></span></em></p>\n
LOCATION:972 W Dillon Road Louisville\, CO 80027
UID:e.641.1441
SEQUENCE:3
DTSTAMP:20260420T082106Z
URL:http://business.broomfieldchamber.com/events/details/ribbon-cutting-for-advanced-medical-imaging-05-13-2011-1441
END:VEVENT

END:VCALENDAR
