BEGIN:VCALENDAR
VERSION:2.0
PRODID:-//ChamberMaster//Event Calendar 2.0//EN
METHOD:PUBLISH
X-PUBLISHED-TTL:P3D
REFRESH-INTERVAL:P3D
CALSCALE:GREGORIAN
BEGIN:VEVENT
DTSTART:20100709T180000Z
DTEND:20100709T190000Z
X-MICROSOFT-CDO-ALLDAYEVENT:FALSE
SUMMARY:Ribbon Cutting for Agape Angelicum School of Nursing Arts
DESCRIPTION:Ribbon Cutting forAgape Angelicum School of Nursing Arts
X-ALT-DESC;FMTTYPE=text/html:<div>Ribbon Cutting for</div><div>Agape Angelicum School of Nursing Arts</div>
LOCATION:80 Garden CenterBroomfield\, CO 80020
UID:e.641.1086
SEQUENCE:3
DTSTAMP:20260421T011906Z
URL:http://business.broomfieldchamber.com/events/details/ribbon-cutting-for-agape-angelicum-school-of-nursing-arts-07-09-2010-1086
END:VEVENT

END:VCALENDAR
