BEGIN:VCALENDAR
VERSION:2.0
PRODID:-//ChamberMaster//Event Calendar 2.0//EN
METHOD:PUBLISH
X-PUBLISHED-TTL:P3D
REFRESH-INTERVAL:P3D
CALSCALE:GREGORIAN
BEGIN:VEVENT
DTSTART:20110422T153000Z
DTEND:20110422T160000Z
X-MICROSOFT-CDO-ALLDAYEVENT:FALSE
SUMMARY:Ribbon Cutting for Allstate/Davis Financial
DESCRIPTION:Please join us for a ribbon cutting at Allstate/Davis Financial\n\n\n\nYou are always in Good Hands with Catherine Davis and her Allstate Insurance agency. As a Personal Financial Representative\, she knows many local families. Her team's knowledge and understanding of the people in this community help them provide customers with an outstanding level of service. They look forward to helping people with their insurance needs   from home to auto to motorcycle and more. They can also help you prepare a strategy to achieve your financial goals. Check out their website at www.allstate.com/cdavis5 or call 303-665-0585.
X-ALT-DESC;FMTTYPE=text/html:<span style="font-size: 14px"><em><strong>Please join us for a ribbon cutting at Allstate/Davis Financial<br />\n<br />\n<span style="font-size: 10pt"><span style="color: black"><span style="font-family: arial\, sans-serif">You are always in Good Hands with Catherine Davis and her&nbsp\;Allstate Insurance agency. As a Personal Financial Representative\, she knows many local families. Her team&rsquo\;s knowledge and understanding of the people in this community help them provide customers with an outstanding level of service. They look forward to helping people with their insurance needs &ndash\; from home to auto to motorcycle and more. They can also help you prepare a strategy to achieve your financial goals. Check out their&nbsp\;website at <u><a href="http://www.allstate.com/cdavis5" target="_blank">www.</a></u></span></span></span><u><span style="font-size: 10pt"><span style="color: blue"><span style="font-family: arial\, sans-serif">allstate<a href="http://www.allstate.com/cdavis5" target="_blank">.com/</a>cdavis5 </span></span></span></u><span style="font-size: 10pt"><span style="color: black"><span style="font-family: arial\, sans-serif">or call 303-665-0585.</span></span></span></strong></em></span>
LOCATION:400 S. McCaslin Blvd. Louisville\, CO 80027
UID:e.641.1372
SEQUENCE:3
DTSTAMP:20260420T093429Z
URL:http://business.broomfieldchamber.com/events/details/ribbon-cutting-for-allstate-davis-financial-04-22-2011-1372
END:VEVENT

END:VCALENDAR
