BEGIN:VCALENDAR
VERSION:2.0
PRODID:-//ChamberMaster//Event Calendar 2.0//EN
METHOD:PUBLISH
X-PUBLISHED-TTL:P3D
REFRESH-INTERVAL:P3D
CALSCALE:GREGORIAN
BEGIN:VEVENT
DTSTART:20100902T220000Z
DTEND:20100903T000000Z
X-MICROSOFT-CDO-ALLDAYEVENT:FALSE
SUMMARY:Ribbon Cutting for Allstate/John Cruz
DESCRIPTION:This Ribbon Cutting is in combination with Broomfield Pediatrics and Internal Medicine at the same location! Food and refreshments will be provided.
X-ALT-DESC;FMTTYPE=text/html:<div><div>This Ribbon Cutting is in combination with Broomfield Pediatrics and Internal Medicine&nbsp\;at the same location!</div><div>&nbsp\;</div><div>Food and refreshments will be provided.</div></div>
LOCATION:3301 W 144th Ave.\,Broomfield\, CO 80023
UID:e.641.1141
SEQUENCE:3
DTSTAMP:20260420T202321Z
URL:http://business.broomfieldchamber.com/events/details/ribbon-cutting-for-allstate-john-cruz-09-02-2010-1141
END:VEVENT

END:VCALENDAR
