BEGIN:VCALENDAR
VERSION:2.0
PRODID:-//ChamberMaster//Event Calendar 2.0//EN
METHOD:PUBLISH
X-PUBLISHED-TTL:P3D
REFRESH-INTERVAL:P3D
CALSCALE:GREGORIAN
BEGIN:VEVENT
DTSTART:20120621T220000Z
DTEND:20120621T230000Z
X-MICROSOFT-CDO-ALLDAYEVENT:FALSE
SUMMARY:Ribbon Cutting for Alpha Omega Chiropractic
DESCRIPTION:Alpha Omega Chiropractic\, Dr. Kara Bishop\, is so excited to be a new member of the Broomfield chamber and would love for you to celebrate with her! Join us for some networking and mid-day refreshments at our office in the Broomfield Plaza\, and learn more about Dr. Bishop's unique take on holistic healthcare.
X-ALT-DESC;FMTTYPE=text/html:<span style="font-size: 14px"><span style="font-family: verdana">Alpha Omega Chiropractic\, Dr. Kara Bishop\, is so excited to be a new member of the Broomfield chamber and would love for you to celebrate&nbsp\;with her! Join us for some networking and mid-day refreshments at our office in the Broomfield Plaza\, and learn more about Dr. Bishop&#39\;s&nbsp\;unique take on holistic healthcare.</span></span><br />\n
LOCATION:5153 W. 120th Ave. Broomfield\, CO 80020
UID:e.641.4009
SEQUENCE:3
DTSTAMP:20260419T132801Z
URL:http://business.broomfieldchamber.com/events/details/ribbon-cutting-for-alpha-omega-chiropractic-06-21-2012-4009
END:VEVENT

END:VCALENDAR
