BEGIN:VCALENDAR
VERSION:2.0
PRODID:-//ChamberMaster//Event Calendar 2.0//EN
METHOD:PUBLISH
X-PUBLISHED-TTL:P3D
REFRESH-INTERVAL:P3D
CALSCALE:GREGORIAN
BEGIN:VEVENT
DTSTART:20120316T203000Z
DTEND:20120316T213000Z
X-MICROSOFT-CDO-ALLDAYEVENT:FALSE
SUMMARY:Ribbon Cutting for Alternative View
DESCRIPTION:Alternative View is a Mobile Windshield Repair and Headlight Restoration company that specializes in the repair of long windshield cracks and in making your headlights look like they are brand new.  We are proud to be an eco-friendly company diverting contributions from landfills\, through repair and/or restoration.\n\n \n\nOur services are performed by reliable\, dependable and friendly staff at your place of business for the convenience of your employees\, on a schedule of your choosing.  We will also come to your home for an even greater convenience!\n\n \n\nIt's about the quality of our workmanship\, the value of our professionalism\, and our futures.\n\n \n\nYour clear windshields\, your clear headlights\, your safety\, and our integrity are Alternative View's focus!
X-ALT-DESC;FMTTYPE=text/html:<span style="font-size: 12px"><span style="font-family: verdana"><span style="color: #7030a0">Alternative View</span> is a Mobile Windshield Repair and Headlight Restoration company that specializes in the repair of long windshield cracks and in making your headlights look like they are brand new.&nbsp\; We are proud to be an eco-friendly company diverting contributions from landfills\, through repair and/or restoration.<br />\n&nbsp\;<br />\nOur services are performed by reliable\, dependable and friendly staff at your place of business for the convenience of your employees\, on a schedule of your choosing.&nbsp\; We will also come to your home for an even greater convenience!<br />\n&nbsp\;<br />\nIt&rsquo\;s about the quality of our workmanship\, the value of our professionalism\, and our futures.<br />\n&nbsp\;<br />\nYour clear windshields\, your clear headlights\, your safety\, and our integrity are <span style="color: #7030a0">Alternative View&#39\;s</span> focus!<br />\n&nbsp\;</span></span>
LOCATION:Broomfield Chamber 2095 W 6th Avenue Suite 109 Broomfield\, CO 80020
UID:e.641.3210
SEQUENCE:3
DTSTAMP:20260419T175225Z
URL:http://business.broomfieldchamber.com/events/details/ribbon-cutting-for-alternative-view-03-16-2012-3210
END:VEVENT

END:VCALENDAR
