BEGIN:VCALENDAR
VERSION:2.0
PRODID:-//ChamberMaster//Event Calendar 2.0//EN
METHOD:PUBLISH
X-PUBLISHED-TTL:P3D
REFRESH-INTERVAL:P3D
CALSCALE:GREGORIAN
BEGIN:VEVENT
DTSTART:20110622T220000Z
DTEND:20110622T230000Z
X-MICROSOFT-CDO-ALLDAYEVENT:FALSE
SUMMARY:Ribbon Cutting for American Family Insurance-Geoff Torres
DESCRIPTION:We here at the Torres Agency would love the opportunity to meet with you as we celebrate our 1st anniversary!  My name is Geoff Torres.  I have been working for American Family Insurance for about 5 years now\, but am excited to be completing a successful first year building my own agency along with the help of my Office Manger\, Karyn and a very supportive family.  Karyn has about 12 years of experience and works extremely well with our clients.  The Torres Agency strives to meet your auto\, home\, health and life insurance needs in a dependable and trustworthy environment.\n\n\n\nJoin us and enjoy food\, drinks and door prizes in conjunction with our one-year anniversary!
X-ALT-DESC;FMTTYPE=text/html:<em><span style="font-size: 10pt"><span style="color: #1f497d"><span style="font-family: tahoma\, sans-serif"><span style="font-family: tahoma">We here at the Torres Agency would love the opportunity to meet with you as we celebrate our 1st anniversary! &nbsp\;My name is Geoff Torres. &nbsp\;I have been working for American Family Insurance for about 5 years now\, but am excited to be&nbsp\;completing a successful first year building my own agency along with&nbsp\;the help of&nbsp\;my Office Manger\, Karyn and&nbsp\;a very&nbsp\;supportive family.&nbsp\; Karyn&nbsp\;has about 12 years of experience and works&nbsp\;extremely well with our clients.&nbsp\; The Torres Agency strives to meet your auto\, home\, health and life insurance needs in a dependable and trustworthy&nbsp\;environment.</span></span></span></span></em><br />\n<br />\n<em><strong>Join us and enjoy food\, drinks and door prizes in conjunction with our one-year anniversary!</strong></em>
LOCATION:8700 Turnpike Dr.\, #330 Westminster\, CO. 80031
UID:e.641.1449
SEQUENCE:3
DTSTAMP:20260420T063959Z
URL:http://business.broomfieldchamber.com/events/details/ribbon-cutting-for-american-family-insurance-geoff-torres-06-22-2011-1449
END:VEVENT

END:VCALENDAR
