BEGIN:VCALENDAR
VERSION:2.0
PRODID:-//ChamberMaster//Event Calendar 2.0//EN
METHOD:PUBLISH
X-PUBLISHED-TTL:P3D
REFRESH-INTERVAL:P3D
CALSCALE:GREGORIAN
BEGIN:VEVENT
DTSTART:20100813T210000Z
DTEND:20100813T220000Z
X-MICROSOFT-CDO-ALLDAYEVENT:FALSE
SUMMARY:Ribbon Cutting for Amherst Park Family Dental
DESCRIPTION:Food will be served
X-ALT-DESC;FMTTYPE=text/html:<div>Food will be served</div>
LOCATION:2055 W. 136th Avenue Suite 136 Broomfield\, CO 80023
UID:e.641.1117
SEQUENCE:3
DTSTAMP:20260420T220120Z
URL:http://business.broomfieldchamber.com/events/details/ribbon-cutting-for-amherst-park-family-dental-08-13-2010-1117
END:VEVENT

END:VCALENDAR
