BEGIN:VCALENDAR
VERSION:2.0
PRODID:-//ChamberMaster//Event Calendar 2.0//EN
METHOD:PUBLISH
X-PUBLISHED-TTL:P3D
REFRESH-INTERVAL:P3D
CALSCALE:GREGORIAN
BEGIN:VEVENT
DTSTART:20110401T150000Z
DTEND:20110402T040000Z
X-MICROSOFT-CDO-ALLDAYEVENT:FALSE
SUMMARY:Ribbon Cutting for AMLI at Arista
DESCRIPTION:Ribbon Cutting for AMLI at Arista\n\n\n\nEveryone is welcome to attend!\n\n\n\nOur community\, AMLI Arista consists of 358 beautiful apartment homes and 7000 sq ft of prime retail space.  Interior features include granite kitchen countertops and islands\, black appliances\, faux wood flooring\, and loft floorplans with ceilings over 20 feet in height.  Community features include private direct-access garages\, a guest suite for visitors\, fitness center and yoga studio\, clubroom with plasma TV\, billiards\, and fully appointed kitchen and lastly\, a heated pool and hot tub. Visit us online at www.amli.com/aristaor call (303)466-7222.
X-ALT-DESC;FMTTYPE=text/html:<span style="font-size: 14px"><strong>Ribbon Cutting for AMLI at Arista<br />\n<br />\nEveryone is welcome to attend!</strong></span><br />\n<br />\n<span style="font-size: 10pt"><span style="font-family: arial\, sans-serif">Our community\, AMLI Arista consists of 358 beautiful apartment homes and 7000 sq ft of prime retail space.&nbsp\; Interior features include granite kitchen countertops and islands\, black appliances\, faux wood flooring\, and loft floorplans with ceilings over 20 feet in height.&nbsp\; Community features include private direct-access garages\, a guest suite for visitors\, fitness center and yoga studio\, clubroom with plasma TV\, billiards\, and fully appointed kitchen and lastly\, a heated pool and hot tub. Visit us online at </span></span><a href="http://www.amli.com/arista"><span style="font-size: 10pt"><span style="font-family: arial\, sans-serif">www.amli.com/arista</span></span></a><span style="font-size: 10pt"><span style="font-family: arial\, sans-serif">or call (303)466-7222.</span></span>
LOCATION:AMLI Arista 8200 Arista Place Broomfield CO 80021
UID:e.641.1349
SEQUENCE:3
DTSTAMP:20260420T093508Z
URL:http://business.broomfieldchamber.com/events/details/ribbon-cutting-for-amli-at-arista-04-01-2011-1349
END:VEVENT

END:VCALENDAR
