BEGIN:VCALENDAR
VERSION:2.0
PRODID:-//ChamberMaster//Event Calendar 2.0//EN
METHOD:PUBLISH
X-PUBLISHED-TTL:P3D
REFRESH-INTERVAL:P3D
CALSCALE:GREGORIAN
BEGIN:VEVENT
DTSTART:20111221T160000Z
DTEND:20111221T170000Z
X-MICROSOFT-CDO-ALLDAYEVENT:FALSE
SUMMARY:Ribbon Cutting for AMLI Flatirons
DESCRIPTION:AMLI at Flatirons is a pet-friendly 1 and 2 bedroom apartment community across from Flatirons Crossing.  AMLI Residential bought the former "Summit at Flatirons" in June 2011 and is making updates throughout the community including an exterior and interior paint\, new fitness center\, and upgraded apartment interiors.
X-ALT-DESC;FMTTYPE=text/html:<span style="font-size: 14px"><em><span style="font-family: verdana">AMLI at Flatirons is a pet-friendly 1 and 2 bedroom apartment community across from Flatirons Crossing.&nbsp\; AMLI Residential bought the former &ldquo\;Summit at Flatirons&rdquo\; in June 2011&nbsp\;and is making updates throughout the community including an exterior and interior paint\, new fitness center\, and upgraded apartment interiors.&nbsp\;&nbsp\;&nbsp\;&nbsp\;</span></em></span><br />\n
LOCATION:210 Summit Blvd. Broomfield\, CO 80021
UID:e.641.3059
SEQUENCE:3
DTSTAMP:20260419T233239Z
URL:http://business.broomfieldchamber.com/events/details/ribbon-cutting-for-amli-flatirons-12-21-2011-3059
END:VEVENT

END:VCALENDAR
